BEGIN:VCALENDAR
VERSION:2.0
PRODID:-//My CMS - ECPv6.9.1//NONSGML v1.0//EN
CALSCALE:GREGORIAN
METHOD:PUBLISH
X-WR-CALNAME:My CMS
X-ORIGINAL-URL:https://lihedemo.lincolnitsoln.com
X-WR-CALDESC:Events for My CMS
REFRESH-INTERVAL;VALUE=DURATION:PT1H
X-Robots-Tag:noindex
X-PUBLISHED-TTL:PT1H
BEGIN:VTIMEZONE
TZID:UTC
BEGIN:STANDARD
TZOFFSETFROM:+0000
TZOFFSETTO:+0000
TZNAME:UTC
DTSTART:20240101T000000
END:STANDARD
END:VTIMEZONE
BEGIN:VEVENT
DTSTART;VALUE=DATE:20240815
DTEND;VALUE=DATE:20250102
DTSTAMP:20260422T015057
CREATED:20240102T041932Z
LAST-MODIFIED:20241014T045830Z
UID:13214-1723680000-1735775999@lihedemo.lincolnitsoln.com
SUMMARY:MoU Signing Ceremony Between Lincoln Institute of Higher Education & Pedorthic Association of Australia
DESCRIPTION:On 11th August\, the Pedorthic Association of Australia (PAA) and the Lincoln Institute of Higher Education (LIHE)\, Australia\, embarked on a pivotal collaboration in pedorthics education and research. Pedorthists\, recognised under the Allied Health Professions Australia\, are instrumental in enhancing patient well-being through bespoke footwear solutions. Their expertise aids in averting foot complications\, promoting mobility\, and substantially curtailing risks linked with conditions like diabetes. This venture promises the development of a Global standards Bachelor of Pedorthics programme\, revolutionary industry-led training\, and unrivalled Work Integrated Learning opportunities for LIHE students. Such endeavours will capacitate them to cater to underprivileged communities\, individuals at high foot-care risk\, the physically challenged\, and the Aboriginal and Torres Strait Islander populations.\n \n\nProf. Amiya Bhaumik of LIHE highlighted the institute's philosophical ethos on health education\, expressing a fervent desire to pioneer community service via non-profit health education. PAA's President\, Katrin Wegener\, alongside Karl-Heinz Schott\, emphasised the vast potential of the pedorthist profession in Australia\, pointing to job-ready opportunities for students even in nascent study stages and the surging demand in remote areas.\n \n\nThis union was celebrated with the esteemed presence of members from PAA - Katrin Wegener\, Karl-Heinz Schott\, Khajag Moskofian\, Sayed Ahmed; and from LIHE - Prof. Amiya Bhaumik\, Dr Tadipatri Prasad\, Dhanyānanda Swami\, Mark Atkinson\, Vijaya Ryali\, and Prof. Mahfuz Ashraf. Forward to a brighter\, inclusive future in health education!\n \n\n#PAAxLIHE #Partnership #Pedorthics #HealthEducation
URL:https://lihedemo.lincolnitsoln.com/event/event-1/
CATEGORIES:LIHE
ATTACH;FMTTYPE=image/jpeg:https://lihedemo.lincolnitsoln.com/wp-content/uploads/2024/07/MoU-Signing-Ceremony-11082023-e1721643618618.jpg
END:VEVENT
END:VCALENDAR